BEGIN:VCALENDAR
VERSION:2.0
PRODID:-//Info Tours - ECPv6.15.20//NONSGML v1.0//EN
CALSCALE:GREGORIAN
METHOD:PUBLISH
X-WR-CALNAME:Info Tours
X-ORIGINAL-URL:https://info-tours.fr
X-WR-CALDESC:Évènements pour Info Tours
REFRESH-INTERVAL;VALUE=DURATION:PT1H
X-Robots-Tag:noindex
X-PUBLISHED-TTL:PT1H
BEGIN:VTIMEZONE
TZID:Europe/Paris
BEGIN:DAYLIGHT
TZOFFSETFROM:+0100
TZOFFSETTO:+0200
TZNAME:CEST
DTSTART:20250330T010000
END:DAYLIGHT
BEGIN:STANDARD
TZOFFSETFROM:+0200
TZOFFSETTO:+0100
TZNAME:CET
DTSTART:20251026T010000
END:STANDARD
BEGIN:DAYLIGHT
TZOFFSETFROM:+0100
TZOFFSETTO:+0200
TZNAME:CEST
DTSTART:20260329T010000
END:DAYLIGHT
BEGIN:STANDARD
TZOFFSETFROM:+0200
TZOFFSETTO:+0100
TZNAME:CET
DTSTART:20261025T010000
END:STANDARD
BEGIN:DAYLIGHT
TZOFFSETFROM:+0100
TZOFFSETTO:+0200
TZNAME:CEST
DTSTART:20270328T010000
END:DAYLIGHT
BEGIN:STANDARD
TZOFFSETFROM:+0200
TZOFFSETTO:+0100
TZNAME:CET
DTSTART:20271031T010000
END:STANDARD
END:VTIMEZONE
BEGIN:VEVENT
DTSTART;TZID=Europe/Paris:20260125T090000
DTEND;TZID=Europe/Paris:20260125T170000
DTSTAMP:20260423T122511
CREATED:20260120T112005Z
LAST-MODIFIED:20260120T112011Z
UID:10001884-1769331600-1769360400@info-tours.fr
SUMMARY:Course Caritative Tours
DESCRIPTION:Rendez-vous le dimanche 25 janvier au lac de la Bergeonnerie dès 9h\, pour une course caritative « en avant pour les enfants » ! \n\n\n\nCette course a pour objectif de soutenir l’amélioration des soins et du bien-être des enfants hospitalisés\, à travers une journée placée sous le signe du sport\, du partage et de la solidarité.  \n\n\n\nL’ensemble des fonds récoltés sera donc reversé au Fonds de dotation du CHU de Clocheville\, afin de contribuer à la réalisation d’un des projet de l’hôpital dédié aux enfants.  \n\n\n\nDeux parcours sont proposés :  \n\n\n\n– 5km : au choix en courant ou en marchant  \n\n\n\n– 7\,5km : en courant  \n\n\n\nLes inscriptions sont ouvertes via le QR code sur l’affiche. \n\n\n\nToutes les infos sont sur le compte Instagram : enavantpourlesenfants \n\n\n\nQue vous soyez coureur confirmé\, débutant ou simplement motivé par la cause\, votre participation fera la différence. On a hâte de vous retrouver nombreux pour ce moment sportif et solidaire.
URL:https://info-tours.fr/event/course-caritative-tours/
LOCATION:Lac de la Bergeonnerie\, Lac de la Bergeonnerie\, Tours\, 37200\, France
ATTACH;FMTTYPE=image/png:https://info-tours.fr/wp-content/uploads/2026/01/En-avant-pour-les-enfants.png
END:VEVENT
END:VCALENDAR