BEGIN:VCALENDAR
VERSION:2.0
PRODID:-//Info Tours - ECPv6.15.20//NONSGML v1.0//EN
CALSCALE:GREGORIAN
METHOD:PUBLISH
X-WR-CALNAME:Info Tours
X-ORIGINAL-URL:https://info-tours.fr
X-WR-CALDESC:Évènements pour Info Tours
REFRESH-INTERVAL;VALUE=DURATION:PT1H
X-Robots-Tag:noindex
X-PUBLISHED-TTL:PT1H
BEGIN:VTIMEZONE
TZID:Europe/Paris
BEGIN:DAYLIGHT
TZOFFSETFROM:+0100
TZOFFSETTO:+0200
TZNAME:CEST
DTSTART:20240331T010000
END:DAYLIGHT
BEGIN:STANDARD
TZOFFSETFROM:+0200
TZOFFSETTO:+0100
TZNAME:CET
DTSTART:20241027T010000
END:STANDARD
BEGIN:DAYLIGHT
TZOFFSETFROM:+0100
TZOFFSETTO:+0200
TZNAME:CEST
DTSTART:20250330T010000
END:DAYLIGHT
BEGIN:STANDARD
TZOFFSETFROM:+0200
TZOFFSETTO:+0100
TZNAME:CET
DTSTART:20251026T010000
END:STANDARD
BEGIN:DAYLIGHT
TZOFFSETFROM:+0100
TZOFFSETTO:+0200
TZNAME:CEST
DTSTART:20260329T010000
END:DAYLIGHT
BEGIN:STANDARD
TZOFFSETFROM:+0200
TZOFFSETTO:+0100
TZNAME:CET
DTSTART:20261025T010000
END:STANDARD
END:VTIMEZONE
BEGIN:VEVENT
DTSTART;TZID=Europe/Paris:20251213T100000
DTEND;TZID=Europe/Paris:20251213T170000
DTSTAMP:20260424T070736
CREATED:20251208T092154Z
LAST-MODIFIED:20251208T092200Z
UID:10001858-1765620000-1765645200@info-tours.fr
SUMMARY:Quinzaine du Livre Jeunesse à St-Pierre-des-Corps
DESCRIPTION:La Quinzaine du Livre Jeunesse s’installe à la bibliothèque municipale de Saint-Pierre-des-Corps pour une journée de célébration de la littérature jeunesse ! De 10h à 12h30\, puis de 14h à 17h\, vous pourrez venir (re)découvrir les livres de la sélection qui seront exposés et en vente. Profitez également de nombreuses animations tout au long de la journée.
URL:https://info-tours.fr/event/quinzaine-du-livre-jeunesse-a-st-pierre-des-corps/
LOCATION:bibliothèque municipale de Saint-Pierre-des-Corps\, 3 rue Henri Barbusse\, Saint-Pierre-des-Corps\, 37700\, France
ATTACH;FMTTYPE=image/png:https://info-tours.fr/wp-content/uploads/2025/12/TF-SPDC-1.png
END:VEVENT
END:VCALENDAR