BEGIN:VCALENDAR
VERSION:2.0
PRODID:-//Info Tours - ECPv6.15.20//NONSGML v1.0//EN
CALSCALE:GREGORIAN
METHOD:PUBLISH
X-WR-CALNAME:Info Tours
X-ORIGINAL-URL:https://info-tours.fr
X-WR-CALDESC:Évènements pour Info Tours
REFRESH-INTERVAL;VALUE=DURATION:PT1H
X-Robots-Tag:noindex
X-PUBLISHED-TTL:PT1H
BEGIN:VTIMEZONE
TZID:Europe/Paris
BEGIN:DAYLIGHT
TZOFFSETFROM:+0100
TZOFFSETTO:+0200
TZNAME:CEST
DTSTART:20250330T010000
END:DAYLIGHT
BEGIN:STANDARD
TZOFFSETFROM:+0200
TZOFFSETTO:+0100
TZNAME:CET
DTSTART:20251026T010000
END:STANDARD
BEGIN:DAYLIGHT
TZOFFSETFROM:+0100
TZOFFSETTO:+0200
TZNAME:CEST
DTSTART:20260329T010000
END:DAYLIGHT
BEGIN:STANDARD
TZOFFSETFROM:+0200
TZOFFSETTO:+0100
TZNAME:CET
DTSTART:20261025T010000
END:STANDARD
BEGIN:DAYLIGHT
TZOFFSETFROM:+0100
TZOFFSETTO:+0200
TZNAME:CEST
DTSTART:20270328T010000
END:DAYLIGHT
BEGIN:STANDARD
TZOFFSETFROM:+0200
TZOFFSETTO:+0100
TZNAME:CET
DTSTART:20271031T010000
END:STANDARD
END:VTIMEZONE
BEGIN:VEVENT
DTSTART;TZID=Europe/Paris:20260401T100000
DTEND;TZID=Europe/Paris:20261101T180000
DTSTAMP:20260424T144019
CREATED:20260305T104751Z
LAST-MODIFIED:20260305T104753Z
UID:10001904-1775037600-1793556000@info-tours.fr
SUMMARY:Exposition Métamorphoses
DESCRIPTION:En 2026\, dans les grandes salles du château\, une nouvelle exposition d’art contemporain\, commissionnée par Patricia Laigneau\, convoque les visiteurs dans un voyage dans l’histoire de l’art\, métamorphosé grâce au regard créatif et espiègle des grands artistes de notre temps. L’exposition invite les visiteurs à une traversée de l’histoire de l’art du passé grâce au regard créatif et espiègle des artistes de notre temps.  Entre humour et émerveillement\, les visiteurs découvrent l’histoire de l’art sous un angle inédit\, à travers une scénographie inspirée des cabinets de curiosités et de l’imaginaire médiéval en huit grands thèmes : la salle des portraits\, la salle de la figure animale\, la salle du festin\, le studiolo\, la salle des Dames\, la salle Jeanne d’Arc et la chapelle. \n\n\n\nMettre l’Histoire au présent est le credo de Patricia Laigneau\, directrice artistique et culturelle au Château du Rivau. Avec Métamorphoses au Rivau\, le parcours ouvre des liens féconds entre le riche passé et des figures mythiques de l’histoire\, François 1er\, Rembrandt\, Vermeer\, Léonard de Vinci réinterprétés par des artistes contemporains. \n\n\n\nPlus de trente-cinq artistes illustrent les métamorphoses de l’objet d’art. La peinture d’histoire est revisitée à travers la figure féminine de l’histoire de l’Art. Les œuvres sur le thème de la nature morte et les verreries des grandes tables d’antan sont réinventées. La figure de Jeanne d’Arc et les chimères propres à l’imaginaire du château du Rivau sont réinterprétées. Métamorphoses également dans les écuries Renaissance du Rivau :  le film « Art in Space » suit la danseuse Jeanne Morel en apesanteur. Ses ondes cérébrales\, captées en temps réels sont converties par l’artiste Paul Marlier en créations numériques. \n\n\n\nSite web de l’événement (billetterie / infos) :  https://www.chateaudurivau.com/fr/billeterie.php
URL:https://info-tours.fr/event/exposition-metamorphoses/
LOCATION:9 Rue du Château\, 37120 Lémeré\, 9 Rue du Château\, 37120 Lémeré\, France
ATTACH;FMTTYPE=image/jpeg:https://info-tours.fr/wp-content/uploads/2026/03/Fete-des-Roses-Rivau-2©chateaudurivau.jpg
END:VEVENT
BEGIN:VEVENT
DTSTART;TZID=Europe/Paris:20260613T183000
DTEND;TZID=Europe/Paris:20260613T233000
DTSTAMP:20260424T144019
CREATED:20260225T163758Z
LAST-MODIFIED:20260225T163800Z
UID:10001901-1781375400-1781393400@info-tours.fr
SUMMARY:Concert les berges ludiques - Saison 3
DESCRIPTION:🎼💓le concert des berges ludiques aura lieu le samedi 13 juin 2026\, à partir de 18h00💓🎼 \n \nAu programme\, 4h de concert entièrement gratuit (Reprises et compositions originales) : \n🎷18h30 –Ideal Coma et ses compositions rock \n🎙️20h00 – Virginie avec ses reprises (Guitare + voix + looper) \n🚀21h30 – Insane et ses reprises endiablées. \n \nPour vous restaurer\, 3 foods trucks seront à votre disposition : Good Food Good Mood\, Camion-La Tour de Pizz et Smart snack\, ainsi qu’un bar éphémère pour épancher votre soif. \n \nCe concert vous est offert grâce à nos partenaires locaux : \nINTER BLERE\, Crédit Mutuel\, \n \n#musiquetours #concerts #tours #villedetours #musiquelive
URL:https://info-tours.fr/event/concert-les-berges-ludiques-saison-3/
LOCATION:chemin des châteaux\, Azay sur Cher\, Chemin des châteaux\, azay sur cher\, 37270\, France
ATTACH;FMTTYPE=image/png:https://info-tours.fr/wp-content/uploads/2026/02/Blue-Minimalist-Concert-Music-Cover-Poster-1.png
END:VEVENT
END:VCALENDAR