BEGIN:VCALENDAR
VERSION:2.0
PRODID:-//Info Tours - ECPv6.15.20//NONSGML v1.0//EN
CALSCALE:GREGORIAN
METHOD:PUBLISH
X-ORIGINAL-URL:https://info-tours.fr
X-WR-CALDESC:Évènements pour Info Tours
REFRESH-INTERVAL;VALUE=DURATION:PT1H
X-Robots-Tag:noindex
X-PUBLISHED-TTL:PT1H
BEGIN:VTIMEZONE
TZID:Europe/Paris
BEGIN:DAYLIGHT
TZOFFSETFROM:+0100
TZOFFSETTO:+0200
TZNAME:CEST
DTSTART:20250330T010000
END:DAYLIGHT
BEGIN:STANDARD
TZOFFSETFROM:+0200
TZOFFSETTO:+0100
TZNAME:CET
DTSTART:20251026T010000
END:STANDARD
BEGIN:DAYLIGHT
TZOFFSETFROM:+0100
TZOFFSETTO:+0200
TZNAME:CEST
DTSTART:20260329T010000
END:DAYLIGHT
BEGIN:STANDARD
TZOFFSETFROM:+0200
TZOFFSETTO:+0100
TZNAME:CET
DTSTART:20261025T010000
END:STANDARD
BEGIN:DAYLIGHT
TZOFFSETFROM:+0100
TZOFFSETTO:+0200
TZNAME:CEST
DTSTART:20270328T010000
END:DAYLIGHT
BEGIN:STANDARD
TZOFFSETFROM:+0200
TZOFFSETTO:+0100
TZNAME:CET
DTSTART:20271031T010000
END:STANDARD
END:VTIMEZONE
BEGIN:VEVENT
DTSTART;TZID=Europe/Paris:20260401T100000
DTEND;TZID=Europe/Paris:20261101T180000
DTSTAMP:20260423T183902
CREATED:20260305T104751Z
LAST-MODIFIED:20260305T104753Z
UID:10001904-1775037600-1793556000@info-tours.fr
SUMMARY:Exposition Métamorphoses
DESCRIPTION:En 2026\, dans les grandes salles du château\, une nouvelle exposition d’art contemporain\, commissionnée par Patricia Laigneau\, convoque les visiteurs dans un voyage dans l’histoire de l’art\, métamorphosé grâce au regard créatif et espiègle des grands artistes de notre temps. L’exposition invite les visiteurs à une traversée de l’histoire de l’art du passé grâce au regard créatif et espiègle des artistes de notre temps.  Entre humour et émerveillement\, les visiteurs découvrent l’histoire de l’art sous un angle inédit\, à travers une scénographie inspirée des cabinets de curiosités et de l’imaginaire médiéval en huit grands thèmes : la salle des portraits\, la salle de la figure animale\, la salle du festin\, le studiolo\, la salle des Dames\, la salle Jeanne d’Arc et la chapelle. \n\n\n\nMettre l’Histoire au présent est le credo de Patricia Laigneau\, directrice artistique et culturelle au Château du Rivau. Avec Métamorphoses au Rivau\, le parcours ouvre des liens féconds entre le riche passé et des figures mythiques de l’histoire\, François 1er\, Rembrandt\, Vermeer\, Léonard de Vinci réinterprétés par des artistes contemporains. \n\n\n\nPlus de trente-cinq artistes illustrent les métamorphoses de l’objet d’art. La peinture d’histoire est revisitée à travers la figure féminine de l’histoire de l’Art. Les œuvres sur le thème de la nature morte et les verreries des grandes tables d’antan sont réinventées. La figure de Jeanne d’Arc et les chimères propres à l’imaginaire du château du Rivau sont réinterprétées. Métamorphoses également dans les écuries Renaissance du Rivau :  le film « Art in Space » suit la danseuse Jeanne Morel en apesanteur. Ses ondes cérébrales\, captées en temps réels sont converties par l’artiste Paul Marlier en créations numériques. \n\n\n\nSite web de l’événement (billetterie / infos) :  https://www.chateaudurivau.com/fr/billeterie.php
URL:https://info-tours.fr/event/exposition-metamorphoses/
LOCATION:9 Rue du Château\, 37120 Lémeré\, 9 Rue du Château\, 37120 Lémeré\, France
ATTACH;FMTTYPE=image/jpeg:https://info-tours.fr/wp-content/uploads/2026/03/Fete-des-Roses-Rivau-2©chateaudurivau.jpg
END:VEVENT
BEGIN:VEVENT
DTSTART;TZID=Europe/Paris:20260502T093000
DTEND;TZID=Europe/Paris:20260503T183000
DTSTAMP:20260423T183902
CREATED:20260410T120942Z
LAST-MODIFIED:20260410T120943Z
UID:10001942-1777714200-1777833000@info-tours.fr
SUMMARY:Week-End de Printemps au Vignoble Alain Robert !
DESCRIPTION:Portes-ouvertes annuelles du Vignoble Alain Robert ! \nAu programme : \n– Dégustation de notre gamme de Vouvray \n– Marché de producteurs locaux\n– Visites libres et à thèmes de nos caves Troglodytiques\n– Restauration sur place  \n\nRejoignez-nous !
URL:https://info-tours.fr/event/week-end-de-printemps-au-vignoble-alain-robert/
LOCATION:663 route de la Brenne – Charmigny 37210 CHANCAY\, 663 route de la brenne - Charmigny\, CHANCAY\, 37210\, France
ATTACH;FMTTYPE=image/jpeg:https://info-tours.fr/wp-content/uploads/2026/04/FlyerPO14.jpg
END:VEVENT
BEGIN:VEVENT
DTSTART;TZID=Europe/Paris:20260502T103000
DTEND;TZID=Europe/Paris:20260503T180000
DTSTAMP:20260423T183902
CREATED:20260410T114754Z
LAST-MODIFIED:20260410T120236Z
UID:10001943-1777717800-1777831200@info-tours.fr
SUMMARY:LULU PARC FÊTE SES 30 ANS !
DESCRIPTION:Lulu Parc va souffler ses 30 bougies cette année !  \n\n\n\nLulu Parc célébrera ses 30 ans lors du week-end du 2 & 3 mai\, placé sous le signe de la fête et des souvenirs. Au programme : une chasse au trésor\, un atelier maquillage\, des sculptures sur ballons et une tentative de record pour la plus grande Chenille Humaine d’Indre-et-Loire ! Le dimanche\, un goûter géant sera offert afin de souffler ensemble les 30 bougies du parc.  \n\n\n\nDepuis 1996\, le parc accompagne petits et grands dans leurs premiers éclats de rire\, leurs défis et leurs souvenirs partagés. Pour cette saison anniversaire\, place à la convivialité et à la transmission avec des jeux d’hier et d’aujourd’hui et des animations spéciales. Les visiteurs pourront également découvrir un nouvel espace : LA FABRIQUE DU SOUVENIR\, quiz\, photobooth et animations inspirées de l’année de naissance du parc mettront les années 90 à l’honneur et invitent toute la famille à un véritable voyage dans le temps.  \n\n\n\nStructures gonflables\, trampolines\, zone aquatique\, kartings à pédales\, téléphérique\, petit train et mini-golf attendent toute la famille pour une nouvelle saison de rires et de sensations.  \n\n\n\nParents\, enfants et grands-parents sont invités à revivre leurs souvenirs tout en en créant de nouveaux\, dans un parc où le rire se transmet de génération en génération. \n\n\n\nURL (infos/résa/billetterie) : https://www.luluparc.eu/infos-et-tarifs \n\n\n\nRéseaux sociaux : luluparc – https://www.facebook.com/luluparcdeloisirs/?locale=fr_FR
URL:https://info-tours.fr/event/lulu-parc-fete-ses-30-ans/
LOCATION:Quai de la Loire\, Rochecorbon\, Quai de la Loire\, Rochecorbon
ATTACH;FMTTYPE=image/png:https://info-tours.fr/wp-content/uploads/2026/04/Affiche-Programme-30-ans.png
END:VEVENT
END:VCALENDAR